BEGIN:VCALENDAR
VERSION:2.0
PRODID:icalendar-ruby
CALSCALE:GREGORIAN
METHOD:PUBLISH
BEGIN:VEVENT
DTSTAMP:20260420T232324Z
UID:13-618171@firstumc168.tithelysetup5.com
DTSTART:20260612T230000Z
DTEND:20260613T000000Z
CLASS:PUBLIC
CREATED:20260420T184416
DESCRIPTION:
LAST-MODIFIED:20260420T184416
LOCATION:Wesley Hall
SUMMARY:AA Weekly Meeting
URL;VALUE=URI:https://fumcoakhurst.com/events/aa-weekly-meeting--13/2026-06
 -12
END:VEVENT
END:VCALENDAR
