BEGIN:VCALENDAR
VERSION:2.0
PRODID:icalendar-ruby
CALSCALE:GREGORIAN
METHOD:PUBLISH
BEGIN:VEVENT
DTSTAMP:20260421T004651Z
UID:13-618172@firstumc168.tithelysetup5.com
DTSTART:20260619T230000Z
DTEND:20260620T000000Z
CLASS:PUBLIC
CREATED:20260420T184416
DESCRIPTION:
LAST-MODIFIED:20260420T184416
LOCATION:Wesley Hall
SUMMARY:AA Weekly Meeting
URL;VALUE=URI:https://fumcoakhurst.com/events/aa-weekly-meeting--13/2026-06
 -19
END:VEVENT
END:VCALENDAR
