BEGIN:VCALENDAR
VERSION:2.0
PRODID:icalendar-ruby
CALSCALE:GREGORIAN
METHOD:PUBLISH
BEGIN:VEVENT
DTSTAMP:20260421T034449Z
UID:13-618793@firstumc168.tithelysetup5.com
DTSTART:20260703T230000Z
DTEND:20260704T000000Z
CLASS:PUBLIC
CREATED:20260420T211833
DESCRIPTION:
LAST-MODIFIED:20260420T211833
LOCATION:Wesley Hall
SUMMARY:AA Weekly Meeting
URL;VALUE=URI:https://fumcoakhurst.com/events/aa-weekly-meeting--13/2026-07
 -03
END:VEVENT
END:VCALENDAR
