BEGIN:VCALENDAR
VERSION:2.0
PRODID:icalendar-ruby
CALSCALE:GREGORIAN
METHOD:PUBLISH
BEGIN:VEVENT
DTSTAMP:20260421T135619Z
UID:13-619419@firstumc168.tithelysetup5.com
DTSTART:20260821T230000Z
DTEND:20260822T000000Z
CLASS:PUBLIC
CREATED:20260421T082605
DESCRIPTION:
LAST-MODIFIED:20260421T082605
LOCATION:Wesley Hall
SUMMARY:AA Weekly Meeting
URL;VALUE=URI:https://fumcoakhurst.com/events/aa-weekly-meeting--13/2026-08
 -21
END:VEVENT
END:VCALENDAR
