BEGIN:VCALENDAR
VERSION:2.0
PRODID:icalendar-ruby
CALSCALE:GREGORIAN
METHOD:PUBLISH
BEGIN:VEVENT
DTSTAMP:20260421T153414Z
UID:13-620040@firstumc168.tithelysetup5.com
DTSTART:20260828T230000Z
DTEND:20260829T000000Z
CLASS:PUBLIC
CREATED:20260421T110129
DESCRIPTION:
LAST-MODIFIED:20260421T110129
LOCATION:Wesley Hall
SUMMARY:AA Weekly Meeting
URL;VALUE=URI:https://fumcoakhurst.com/events/aa-weekly-meeting--13/2026-08
 -28
END:VEVENT
END:VCALENDAR
