BEGIN:VCALENDAR
VERSION:2.0
PRODID:icalendar-ruby
CALSCALE:GREGORIAN
METHOD:PUBLISH
BEGIN:VEVENT
DTSTAMP:20260421T195137Z
UID:13-620664@firstumc168.tithelysetup5.com
DTSTART:20260918T230000Z
DTEND:20260919T000000Z
CLASS:PUBLIC
CREATED:20260421T134147
DESCRIPTION:
LAST-MODIFIED:20260421T134147
LOCATION:Wesley Hall
SUMMARY:AA Weekly Meeting
URL;VALUE=URI:https://fumcoakhurst.com/events/aa-weekly-meeting--13/2026-09
 -18
END:VEVENT
END:VCALENDAR
