BEGIN:VCALENDAR
VERSION:2.0
PRODID:icalendar-ruby
CALSCALE:GREGORIAN
METHOD:PUBLISH
BEGIN:VEVENT
DTSTAMP:20260421T212250Z
UID:13-621287@firstumc168.tithelysetup5.com
DTSTART:20260925T230000Z
DTEND:20260926T000000Z
CLASS:PUBLIC
CREATED:20260421T161730
DESCRIPTION:
LAST-MODIFIED:20260421T161730
LOCATION:Wesley Hall
SUMMARY:AA Weekly Meeting
URL;VALUE=URI:https://fumcoakhurst.com/events/aa-weekly-meeting--13/2026-09
 -25
END:VEVENT
END:VCALENDAR
