BEGIN:VCALENDAR
VERSION:2.0
PRODID:icalendar-ruby
CALSCALE:GREGORIAN
METHOD:PUBLISH
BEGIN:VEVENT
DTSTAMP:20260422T000851Z
UID:13-621911@firstumc168.tithelysetup5.com
DTSTART:20261009T230000Z
DTEND:20261010T000000Z
CLASS:PUBLIC
CREATED:20260421T185608
DESCRIPTION:
LAST-MODIFIED:20260421T185608
LOCATION:Wesley Hall
SUMMARY:AA Weekly Meeting
URL;VALUE=URI:https://fumcoakhurst.com/events/aa-weekly-meeting--13/2026-10
 -09
END:VEVENT
END:VCALENDAR
