BEGIN:VCALENDAR
VERSION:2.0
PRODID:icalendar-ruby
CALSCALE:GREGORIAN
METHOD:PUBLISH
BEGIN:VEVENT
DTSTAMP:20260422T014154Z
UID:13-622534@firstumc168.tithelysetup5.com
DTSTART:20261016T230000Z
DTEND:20261017T000000Z
CLASS:PUBLIC
CREATED:20260421T213430
DESCRIPTION:
LAST-MODIFIED:20260421T213430
LOCATION:Wesley Hall
SUMMARY:AA Weekly Meeting
URL;VALUE=URI:https://fumcoakhurst.com/events/aa-weekly-meeting--13/2026-10
 -16
END:VEVENT
END:VCALENDAR
