BEGIN:VCALENDAR
VERSION:2.0
PRODID:icalendar-ruby
CALSCALE:GREGORIAN
METHOD:PUBLISH
BEGIN:VEVENT
DTSTAMP:20260421T211616Z
UID:12-621222@firstumc168.tithelysetup5.com
DTSTART:20260907T113000Z
DTEND:20260907T123000Z
CLASS:PUBLIC
CREATED:20260421T161730
DESCRIPTION:
LAST-MODIFIED:20260421T161730
LOCATION:Wesley Hall
SUMMARY:AA Weekly Meeting
URL;VALUE=URI:https://fumcoakhurst.com/events/aa-weekly-meeting/2026-09-07
END:VEVENT
END:VCALENDAR
