BEGIN:VCALENDAR
VERSION:2.0
PRODID:icalendar-ruby
CALSCALE:GREGORIAN
METHOD:PUBLISH
BEGIN:VEVENT
DTSTAMP:20260422T002952Z
UID:12-621846@firstumc168.tithelysetup5.com
DTSTART:20260921T113000Z
DTEND:20260921T123000Z
CLASS:PUBLIC
CREATED:20260421T185608
DESCRIPTION:
LAST-MODIFIED:20260421T185608
LOCATION:Wesley Hall
SUMMARY:AA Weekly Meeting
URL;VALUE=URI:https://fumcoakhurst.com/events/aa-weekly-meeting/2026-09-21
END:VEVENT
END:VCALENDAR
