BEGIN:VCALENDAR
VERSION:2.0
PRODID:icalendar-ruby
CALSCALE:GREGORIAN
METHOD:PUBLISH
BEGIN:VEVENT
DTSTAMP:20260422T045104Z
UID:12-622471@firstumc168.tithelysetup5.com
DTSTART:20261012T113000Z
DTEND:20261012T123000Z
CLASS:PUBLIC
CREATED:20260421T213430
DESCRIPTION:
LAST-MODIFIED:20260421T213430
LOCATION:Wesley Hall
SUMMARY:AA Weekly Meeting
URL;VALUE=URI:https://fumcoakhurst.com/events/aa-weekly-meeting/2026-10-12
END:VEVENT
END:VCALENDAR
