BEGIN:VCALENDAR
VERSION:2.0
PRODID:icalendar-ruby
CALSCALE:GREGORIAN
METHOD:PUBLISH
BEGIN:VEVENT
DTSTAMP:20260424T024212Z
UID:11-629263@firstumc168.tithelysetup5.com
DTSTART:20260924T140000Z
DTEND:20260924T150000Z
CLASS:PUBLIC
CREATED:20260423T202107
DESCRIPTION:
LAST-MODIFIED:20260423T202107
LOCATION:
SUMMARY:Alanon
URL;VALUE=URI:https://fumcoakhurst.com/events/alanon--11/2026-09-24
END:VEVENT
END:VCALENDAR
