BEGIN:VCALENDAR
VERSION:2.0
PRODID:icalendar-ruby
CALSCALE:GREGORIAN
METHOD:PUBLISH
BEGIN:VEVENT
DTSTAMP:20260424T045323Z
UID:11-629890@firstumc168.tithelysetup5.com
DTSTART:20261008T140000Z
DTEND:20261008T150000Z
CLASS:PUBLIC
CREATED:20260423T231549
DESCRIPTION:
LAST-MODIFIED:20260423T231549
LOCATION:
SUMMARY:Alanon
URL;VALUE=URI:https://fumcoakhurst.com/events/alanon--11/2026-10-08
END:VEVENT
END:VCALENDAR
