BEGIN:VCALENDAR
VERSION:2.0
PRODID:icalendar-ruby
CALSCALE:GREGORIAN
METHOD:PUBLISH
BEGIN:VEVENT
DTSTAMP:20260421T220216Z
UID:18-621588@firstumc168.tithelysetup5.com
DTSTART:20260924T233000Z
DTEND:20260925T003000Z
CLASS:PUBLIC
CREATED:20260421T161731
DESCRIPTION:
LAST-MODIFIED:20260421T161731
LOCATION:Sanctuary
SUMMARY:Carillon Choir
URL;VALUE=URI:https://fumcoakhurst.com/events/carillon-choir/2026-09-24
END:VEVENT
END:VCALENDAR
