BEGIN:VCALENDAR
VERSION:2.0
PRODID:icalendar-ruby
CALSCALE:GREGORIAN
METHOD:PUBLISH
BEGIN:VEVENT
DTSTAMP:20260423T171003Z
UID:17-627753@firstumc168.tithelysetup5.com
DTSTART:20260806T223000Z
DTEND:20260806T233000Z
CLASS:PUBLIC
CREATED:20260423T113634
DESCRIPTION:
LAST-MODIFIED:20260423T113634
LOCATION:Sanctuary
SUMMARY:Chancel Choir
URL;VALUE=URI:https://fumcoakhurst.com/events/chancel-choir/2026-08-06
END:VEVENT
END:VCALENDAR
