BEGIN:VCALENDAR
VERSION:2.0
PRODID:icalendar-ruby
CALSCALE:GREGORIAN
METHOD:PUBLISH
BEGIN:VEVENT
DTSTAMP:20260423T200135Z
UID:17-628379@firstumc168.tithelysetup5.com
DTSTART:20260820T223000Z
DTEND:20260820T233000Z
CLASS:PUBLIC
CREATED:20260423T143331
DESCRIPTION:
LAST-MODIFIED:20260423T143331
LOCATION:Sanctuary
SUMMARY:Chancel Choir
URL;VALUE=URI:https://fumcoakhurst.com/events/chancel-choir/2026-08-20
END:VEVENT
END:VCALENDAR
