BEGIN:VCALENDAR
VERSION:2.0
PRODID:icalendar-ruby
CALSCALE:GREGORIAN
METHOD:PUBLISH
BEGIN:VEVENT
DTSTAMP:20260423T155029Z
UID:15-627631@firstumc168.tithelysetup5.com
DTSTART:20260728T150000Z
DTEND:20260728T160000Z
CLASS:PUBLIC
CREATED:20260423T113634
DESCRIPTION:
LAST-MODIFIED:20260423T113634
LOCATION:Wesley Hall
SUMMARY:Naranon
URL;VALUE=URI:https://fumcoakhurst.com/events/naranon/2026-07-28
END:VEVENT
END:VCALENDAR
