BEGIN:VCALENDAR
VERSION:2.0
PRODID:icalendar-ruby
CALSCALE:GREGORIAN
METHOD:PUBLISH
BEGIN:VEVENT
DTSTAMP:20260423T200401Z
UID:15-628258@firstumc168.tithelysetup5.com
DTSTART:20260818T150000Z
DTEND:20260818T160000Z
CLASS:PUBLIC
CREATED:20260423T143331
DESCRIPTION:
LAST-MODIFIED:20260423T143331
LOCATION:Wesley Hall
SUMMARY:Naranon
URL;VALUE=URI:https://fumcoakhurst.com/events/naranon/2026-08-18
END:VEVENT
END:VCALENDAR
