BEGIN:VCALENDAR
VERSION:2.0
PRODID:icalendar-ruby
CALSCALE:GREGORIAN
METHOD:PUBLISH
BEGIN:VEVENT
DTSTAMP:20260423T230057Z
UID:15-628884@firstumc168.tithelysetup5.com
DTSTART:20260901T150000Z
DTEND:20260901T160000Z
CLASS:PUBLIC
CREATED:20260423T172759
DESCRIPTION:
LAST-MODIFIED:20260423T172759
LOCATION:Wesley Hall
SUMMARY:Naranon
URL;VALUE=URI:https://fumcoakhurst.com/events/naranon/2026-09-01
END:VEVENT
END:VCALENDAR
