BEGIN:VCALENDAR
VERSION:2.0
PRODID:icalendar-ruby
CALSCALE:GREGORIAN
METHOD:PUBLISH
BEGIN:VEVENT
DTSTAMP:20260424T053400Z
UID:15-630135@firstumc168.tithelysetup5.com
DTSTART:20260915T150000Z
DTEND:20260915T160000Z
CLASS:PUBLIC
CREATED:20260423T231549
DESCRIPTION:
LAST-MODIFIED:20260423T231549
LOCATION:Wesley Hall
SUMMARY:Naranon
URL;VALUE=URI:https://fumcoakhurst.com/events/naranon/2026-09-15
END:VEVENT
END:VCALENDAR
