BEGIN:VCALENDAR
VERSION:2.0
PRODID:icalendar-ruby
CALSCALE:GREGORIAN
METHOD:PUBLISH
BEGIN:VEVENT
DTSTAMP:20260424T103218Z
UID:15-630139@firstumc168.tithelysetup5.com
DTSTART:20261013T150000Z
DTEND:20261013T160000Z
CLASS:PUBLIC
CREATED:20260423T231549
DESCRIPTION:
LAST-MODIFIED:20260423T231549
LOCATION:Wesley Hall
SUMMARY:Naranon
URL;VALUE=URI:https://fumcoakhurst.com/events/naranon/2026-10-13
END:VEVENT
END:VCALENDAR
