BEGIN:VCALENDAR
VERSION:2.0
PRODID:icalendar-ruby
CALSCALE:GREGORIAN
METHOD:PUBLISH
BEGIN:VEVENT
DTSTAMP:20260424T134951Z
UID:15-630768@firstumc168.tithelysetup5.com
DTSTART:20261103T160000Z
DTEND:20261103T170000Z
CLASS:PUBLIC
CREATED:20260424T084348
DESCRIPTION:
LAST-MODIFIED:20260424T084348
LOCATION:Wesley Hall
SUMMARY:Naranon
URL;VALUE=URI:https://fumcoakhurst.com/events/naranon/2026-11-03
END:VEVENT
END:VCALENDAR
