BEGIN:VCALENDAR
VERSION:2.0
PRODID:icalendar-ruby
CALSCALE:GREGORIAN
METHOD:PUBLISH
BEGIN:VEVENT
DTSTAMP:20260423T155049Z
UID:16-627693@firstumc168.tithelysetup5.com
DTSTART:20260728T230000Z
DTEND:20260729T000000Z
CLASS:PUBLIC
CREATED:20260423T113634
DESCRIPTION:
LAST-MODIFIED:20260423T113634
LOCATION:Fellowship Hall
SUMMARY:Scouts
URL;VALUE=URI:https://fumcoakhurst.com/events/scouts/2026-07-28
END:VEVENT
END:VCALENDAR
