BEGIN:VCALENDAR
VERSION:2.0
PRODID:icalendar-ruby
CALSCALE:GREGORIAN
METHOD:PUBLISH
BEGIN:VEVENT
DTSTAMP:20260423T201740Z
UID:16-628320@firstumc168.tithelysetup5.com
DTSTART:20260818T230000Z
DTEND:20260819T000000Z
CLASS:PUBLIC
CREATED:20260423T143331
DESCRIPTION:
LAST-MODIFIED:20260423T143331
LOCATION:Fellowship Hall
SUMMARY:Scouts
URL;VALUE=URI:https://fumcoakhurst.com/events/scouts/2026-08-18
END:VEVENT
END:VCALENDAR
