BEGIN:VCALENDAR
VERSION:2.0
PRODID:icalendar-ruby
CALSCALE:GREGORIAN
METHOD:PUBLISH
BEGIN:VEVENT
DTSTAMP:20260423T215218Z
UID:16-628945@firstumc168.tithelysetup5.com
DTSTART:20260825T230000Z
DTEND:20260826T000000Z
CLASS:PUBLIC
CREATED:20260423T172759
DESCRIPTION:
LAST-MODIFIED:20260423T172759
LOCATION:Fellowship Hall
SUMMARY:Scouts
URL;VALUE=URI:https://fumcoakhurst.com/events/scouts/2026-08-25
END:VEVENT
END:VCALENDAR
