BEGIN:VCALENDAR
VERSION:2.0
PRODID:icalendar-ruby
CALSCALE:GREGORIAN
METHOD:PUBLISH
BEGIN:VEVENT
DTSTAMP:20260424T030644Z
UID:16-629573@firstumc168.tithelysetup5.com
DTSTART:20260922T230000Z
DTEND:20260923T000000Z
CLASS:PUBLIC
CREATED:20260423T202108
DESCRIPTION:
LAST-MODIFIED:20260423T202108
LOCATION:Fellowship Hall
SUMMARY:Scouts
URL;VALUE=URI:https://fumcoakhurst.com/events/scouts/2026-09-22
END:VEVENT
END:VCALENDAR
