BEGIN:VCALENDAR
VERSION:2.0
PRODID:icalendar-ruby
CALSCALE:GREGORIAN
METHOD:PUBLISH
BEGIN:VEVENT
DTSTAMP:20260424T073659Z
UID:16-630202@firstumc168.tithelysetup5.com
DTSTART:20261020T230000Z
DTEND:20261021T000000Z
CLASS:PUBLIC
CREATED:20260423T231549
DESCRIPTION:
LAST-MODIFIED:20260423T231549
LOCATION:Fellowship Hall
SUMMARY:Scouts
URL;VALUE=URI:https://fumcoakhurst.com/events/scouts/2026-10-20
END:VEVENT
END:VCALENDAR
