BEGIN:VCALENDAR
VERSION:2.0
PRODID:icalendar-ruby
CALSCALE:GREGORIAN
METHOD:PUBLISH
BEGIN:VEVENT
DTSTAMP:20260424T095600Z
UID:16-630204@firstumc168.tithelysetup5.com
DTSTART:20261104T000000Z
DTEND:20261104T010000Z
CLASS:PUBLIC
CREATED:20260423T231549
DESCRIPTION:
LAST-MODIFIED:20260423T231549
LOCATION:Fellowship Hall
SUMMARY:Scouts
URL;VALUE=URI:https://fumcoakhurst.com/events/scouts/2026-11-03
END:VEVENT
END:VCALENDAR
