BEGIN:VCALENDAR
VERSION:2.0
PRODID:icalendar-ruby
CALSCALE:GREGORIAN
METHOD:PUBLISH
BEGIN:VEVENT
DTSTAMP:20260424T073424Z
UID:5-629768@firstumc168.tithelysetup5.com
DTSTART:20261025T133000Z
DTEND:20261025T143000Z
CLASS:PUBLIC
CREATED:20260423T231549
DESCRIPTION:Sunday Worship
LAST-MODIFIED:20260423T231549
LOCATION:
SUMMARY:Sunday Worship
URL;VALUE=URI:https://fumcoakhurst.com/events/sunday-worship/2026-10-25
END:VEVENT
END:VCALENDAR
