BEGIN:VCALENDAR
VERSION:2.0
PRODID:icalendar-ruby
CALSCALE:GREGORIAN
METHOD:PUBLISH
BEGIN:VEVENT
DTSTAMP:20260421T081536Z
UID:14-618858@firstumc168.tithelysetup5.com
DTSTART:20260728T123000Z
DTEND:20260728T133000Z
CLASS:PUBLIC
CREATED:20260420T211833
DESCRIPTION:
LAST-MODIFIED:20260420T211833
LOCATION:Library
SUMMARY:Women's Covenant Group
URL;VALUE=URI:https://fumcoakhurst.com/events/womens-covenant-group/2026-07
 -28
END:VEVENT
END:VCALENDAR
