BEGIN:VCALENDAR
VERSION:2.0
PRODID:icalendar-ruby
CALSCALE:GREGORIAN
METHOD:PUBLISH
BEGIN:VEVENT
DTSTAMP:20260421T153750Z
UID:14-620102@firstumc168.tithelysetup5.com
DTSTART:20260901T123000Z
DTEND:20260901T133000Z
CLASS:PUBLIC
CREATED:20260421T110129
DESCRIPTION:
LAST-MODIFIED:20260421T110129
LOCATION:Library
SUMMARY:Women's Covenant Group
URL;VALUE=URI:https://fumcoakhurst.com/events/womens-covenant-group/2026-09
 -01
END:VEVENT
END:VCALENDAR
