BEGIN:VCALENDAR
VERSION:2.0
PRODID:icalendar-ruby
CALSCALE:GREGORIAN
METHOD:PUBLISH
BEGIN:VEVENT
DTSTAMP:20260421T170813Z
UID:14-620103@firstumc168.tithelysetup5.com
DTSTART:20260908T123000Z
DTEND:20260908T133000Z
CLASS:PUBLIC
CREATED:20260421T110129
DESCRIPTION:
LAST-MODIFIED:20260421T110129
LOCATION:Library
SUMMARY:Women's Covenant Group
URL;VALUE=URI:https://fumcoakhurst.com/events/womens-covenant-group/2026-09
 -08
END:VEVENT
END:VCALENDAR
