BEGIN:VCALENDAR
VERSION:2.0
PRODID:icalendar-ruby
CALSCALE:GREGORIAN
METHOD:PUBLISH
BEGIN:VEVENT
DTSTAMP:20260421T183724Z
UID:14-620725@firstumc168.tithelysetup5.com
DTSTART:20260915T123000Z
DTEND:20260915T133000Z
CLASS:PUBLIC
CREATED:20260421T134147
DESCRIPTION:
LAST-MODIFIED:20260421T134147
LOCATION:Library
SUMMARY:Women's Covenant Group
URL;VALUE=URI:https://fumcoakhurst.com/events/womens-covenant-group/2026-09
 -15
END:VEVENT
END:VCALENDAR
