BEGIN:VCALENDAR
VERSION:2.0
PRODID:icalendar-ruby
CALSCALE:GREGORIAN
METHOD:PUBLISH
BEGIN:VEVENT
DTSTAMP:20260421T214001Z
UID:14-621349@firstumc168.tithelysetup5.com
DTSTART:20260929T123000Z
DTEND:20260929T133000Z
CLASS:PUBLIC
CREATED:20260421T161730
DESCRIPTION:
LAST-MODIFIED:20260421T161730
LOCATION:Library
SUMMARY:Women's Covenant Group
URL;VALUE=URI:https://fumcoakhurst.com/events/womens-covenant-group/2026-09
 -29
END:VEVENT
END:VCALENDAR
