BEGIN:VCALENDAR
VERSION:2.0
PRODID:icalendar-ruby
CALSCALE:GREGORIAN
METHOD:PUBLISH
BEGIN:VEVENT
DTSTAMP:20260421T231013Z
UID:14-621972@firstumc168.tithelysetup5.com
DTSTART:20261006T123000Z
DTEND:20261006T133000Z
CLASS:PUBLIC
CREATED:20260421T185608
DESCRIPTION:
LAST-MODIFIED:20260421T185608
LOCATION:Library
SUMMARY:Women's Covenant Group
URL;VALUE=URI:https://fumcoakhurst.com/events/womens-covenant-group/2026-10
 -06
END:VEVENT
END:VCALENDAR
