BEGIN:VCALENDAR
VERSION:2.0
PRODID:icalendar-ruby
CALSCALE:GREGORIAN
METHOD:PUBLISH
BEGIN:VEVENT
DTSTAMP:20260422T031317Z
UID:14-622597@firstumc168.tithelysetup5.com
DTSTART:20261027T123000Z
DTEND:20261027T133000Z
CLASS:PUBLIC
CREATED:20260421T213430
DESCRIPTION:
LAST-MODIFIED:20260421T213430
LOCATION:Library
SUMMARY:Women's Covenant Group
URL;VALUE=URI:https://fumcoakhurst.com/events/womens-covenant-group/2026-10
 -27
END:VEVENT
END:VCALENDAR
