BEGIN:VCALENDAR
VERSION:2.0
PRODID:icalendar-ruby
CALSCALE:GREGORIAN
METHOD:PUBLISH
BEGIN:VEVENT
DTSTAMP:20260422T044803Z
UID:14-622598@firstumc168.tithelysetup5.com
DTSTART:20261103T133000Z
DTEND:20261103T143000Z
CLASS:PUBLIC
CREATED:20260421T213430
DESCRIPTION:
LAST-MODIFIED:20260421T213430
LOCATION:Library
SUMMARY:Women's Covenant Group
URL;VALUE=URI:https://fumcoakhurst.com/events/womens-covenant-group/2026-11
 -03
END:VEVENT
END:VCALENDAR
